BEGIN:VCALENDAR
VERSION:2.0
PRODID:-//ChurchDev//Events//EN
CALSCALE:GREGORIAN
METHOD:PUBLISH
BEGIN:VEVENT
UID:3200-20220501@www.fbcmalvern.org
SUMMARY:Worship Service
DTSTART:20220501T150000Z
DTEND:20220501T160000Z
DESCRIPTION:https://www.fbcmalvern.org/events/worship-service/
LOCATION:531 S. Main St Malvern\, AR 72104
URL:https://www.fbcmalvern.org/events/worship-service/
DTSTAMP:20260419T191530Z
END:VEVENT
END:VCALENDAR
