BEGIN:VCALENDAR
VERSION:2.0
PRODID:-//ChurchDev//Events//EN
CALSCALE:GREGORIAN
METHOD:PUBLISH
BEGIN:VEVENT
UID:3202-20220504@www.fbcmalvern.org
SUMMARY:Wednesday Evening Meal
DTSTART:20220504T223000Z
DTEND:20220504T233000Z
DESCRIPTION:https://www.fbcmalvern.org/events/wednesday-evening-meal/
LOCATION:531 S. Main St Malvern\, AR 72104
URL:https://www.fbcmalvern.org/events/wednesday-evening-meal/
DTSTAMP:20260419T191510Z
END:VEVENT
END:VCALENDAR
