BEGIN:VCALENDAR
VERSION:2.0
PRODID:-//ChurchDev//Events//EN
CALSCALE:GREGORIAN
METHOD:PUBLISH
BEGIN:VEVENT
UID:3219-20220818@www.fbcmalvern.org
SUMMARY:FBC Brazilian Jiu Jitsu
DTSTART:20220818T230000Z
DTEND:20220819T000000Z
DESCRIPTION:https://www.fbcmalvern.org/events/fbc-brazilian-jiu-jitsu/
LOCATION:531 S. Main St Malvern\, AR 72104
URL:https://www.fbcmalvern.org/events/fbc-brazilian-jiu-jitsu/
DTSTAMP:20260419T191537Z
END:VEVENT
END:VCALENDAR
