BEGIN:VCALENDAR
VERSION:2.0
PRODID:-//ChurchDev//Events//EN
CALSCALE:GREGORIAN
METHOD:PUBLISH
BEGIN:VEVENT
UID:3220-20220820@www.fbcmalvern.org
SUMMARY:FBC Brazilian Jiu Jitsu
DTSTART:20220820T143000Z
DTEND:20220820T153000Z
DESCRIPTION:https://www.fbcmalvern.org/events/fbc-brazilian-jiu-jitsu-2/
URL:https://www.fbcmalvern.org/events/fbc-brazilian-jiu-jitsu-2/
DTSTAMP:20260419T191510Z
END:VEVENT
END:VCALENDAR
